BEGIN:VCALENDAR
VERSION:2.0
PRODID:-//vvs-hillegom.nl - ECPv6.15.13.1//NONSGML v1.0//EN
CALSCALE:GREGORIAN
METHOD:PUBLISH
X-ORIGINAL-URL:https://vvs-hillegom.nl
X-WR-CALDESC:Evenementen voor vvs-hillegom.nl
REFRESH-INTERVAL;VALUE=DURATION:PT1H
X-Robots-Tag:noindex
X-PUBLISHED-TTL:PT1H
BEGIN:VTIMEZONE
TZID:Europe/Amsterdam
BEGIN:DAYLIGHT
TZOFFSETFROM:+0100
TZOFFSETTO:+0200
TZNAME:CEST
DTSTART:20250330T010000
END:DAYLIGHT
BEGIN:STANDARD
TZOFFSETFROM:+0200
TZOFFSETTO:+0100
TZNAME:CET
DTSTART:20251026T010000
END:STANDARD
BEGIN:DAYLIGHT
TZOFFSETFROM:+0100
TZOFFSETTO:+0200
TZNAME:CEST
DTSTART:20260329T010000
END:DAYLIGHT
BEGIN:STANDARD
TZOFFSETFROM:+0200
TZOFFSETTO:+0100
TZNAME:CET
DTSTART:20261025T010000
END:STANDARD
BEGIN:DAYLIGHT
TZOFFSETFROM:+0100
TZOFFSETTO:+0200
TZNAME:CEST
DTSTART:20270328T010000
END:DAYLIGHT
BEGIN:STANDARD
TZOFFSETFROM:+0200
TZOFFSETTO:+0100
TZNAME:CET
DTSTART:20271031T010000
END:STANDARD
END:VTIMEZONE
BEGIN:VEVENT
DTSTART;TZID=Europe/Amsterdam:20260617T140000
DTEND;TZID=Europe/Amsterdam:20260617T160000
DTSTAMP:20260421T224911
CREATED:20250819T134606Z
LAST-MODIFIED:20260303T093408Z
UID:1272-1781704800-1781712000@vvs-hillegom.nl
SUMMARY:Optreden en bingo in Bloemswaard
DESCRIPTION:Op woensdag 17 juni kunt u genieten van een optreden van zangeres Lot van Santen in Bloemswaard met uitsluitend een ronde bingo! \n\nDatum: woensdag 17 juni\nAanvang: 14:00 uur\nLocatie: Bloemswaard\nArtiest: zangeres Lot van Santen\nBijzonderheden: Na het optreden 1 ronde bingo
URL:https://vvs-hillegom.nl/event/optreden-en-bingo-in-bloemswaard/
LOCATION:Bloemswaard\, Hillegom
CATEGORIES:Bingo,Optreden
ORGANIZER;CN="Bestuur VVS Hillegom":MAILTO:vvs-hillegom@gmail.com
END:VEVENT
END:VCALENDAR