BEGIN:VCALENDAR
VERSION:2.0
PRODID:-//vvs-hillegom.nl - ECPv6.15.13.1//NONSGML v1.0//EN
CALSCALE:GREGORIAN
METHOD:PUBLISH
X-ORIGINAL-URL:https://vvs-hillegom.nl
X-WR-CALDESC:Evenementen voor vvs-hillegom.nl
REFRESH-INTERVAL;VALUE=DURATION:PT1H
X-Robots-Tag:noindex
X-PUBLISHED-TTL:PT1H
BEGIN:VTIMEZONE
TZID:Europe/Amsterdam
BEGIN:DAYLIGHT
TZOFFSETFROM:+0100
TZOFFSETTO:+0200
TZNAME:CEST
DTSTART:20250330T010000
END:DAYLIGHT
BEGIN:STANDARD
TZOFFSETFROM:+0200
TZOFFSETTO:+0100
TZNAME:CET
DTSTART:20251026T010000
END:STANDARD
BEGIN:DAYLIGHT
TZOFFSETFROM:+0100
TZOFFSETTO:+0200
TZNAME:CEST
DTSTART:20260329T010000
END:DAYLIGHT
BEGIN:STANDARD
TZOFFSETFROM:+0200
TZOFFSETTO:+0100
TZNAME:CET
DTSTART:20261025T010000
END:STANDARD
BEGIN:DAYLIGHT
TZOFFSETFROM:+0100
TZOFFSETTO:+0200
TZNAME:CEST
DTSTART:20270328T010000
END:DAYLIGHT
BEGIN:STANDARD
TZOFFSETFROM:+0200
TZOFFSETTO:+0100
TZNAME:CET
DTSTART:20271031T010000
END:STANDARD
END:VTIMEZONE
BEGIN:VEVENT
DTSTART;TZID=Europe/Amsterdam:20260520T140000
DTEND;TZID=Europe/Amsterdam:20260520T170000
DTSTAMP:20260422T001214
CREATED:20250818T124625Z
LAST-MODIFIED:20250818T124656Z
UID:1261-1779285600-1779296400@vvs-hillegom.nl
SUMMARY:Optreden Westfries Collectief
DESCRIPTION:Humor op z’n West-Fries. Het Westfries Collectief neemt u op woensdag 20 mei mee naar haast vervlogen tijden van de legendarische conferencier Kees Stet. Aansluitend is er een ronde bingo. \n\nDatum: woensdag 20 mei\nAanvang: 14:00 uur\nLocatie: Bloemswaard\nBijzonderheden: aansluitend een ronde bingo
URL:https://vvs-hillegom.nl/event/optreden-westfries-collectief/
LOCATION:Bloemswaard\, Hillegom
CATEGORIES:Bingo,Optreden
ORGANIZER;CN="Bestuur VVS Hillegom":MAILTO:vvs-hillegom@gmail.com
END:VEVENT
END:VCALENDAR